BEGIN:VCALENDAR
VERSION:2.0
PRODID:-//wp-events-plugin.com//6.6.4.4//EN
TZID:Europe/Berlin
X-WR-TIMEZONE:Europe/Berlin
BEGIN:VEVENT
UID:27@anett-levander.de
DTSTART;TZID=Europe/Berlin:20260419T170000
DTEND;TZID=Europe/Berlin:20260419T190000
DTSTAMP:20260117T120332Z
URL:https://anett-levander.de/konzerte/catfish-row-12/
SUMMARY:catfish row
DESCRIPTION:
LOCATION:Stadtpfarrkirche Müncheberg\, Ernst-Thälmann-Str. 52\, Münchebe
 rg\, 15374\, Deutschland
X-APPLE-STRUCTURED-LOCATION;VALUE=URI;X-ADDRESS=Ernst-Thälmann-Str. 52\, M
 üncheberg\, 15374\, Deutschland;X-APPLE-RADIUS=100;X-TITLE=Stadtpfarrkirc
 he Müncheberg:geo:0,0
END:VEVENT
BEGIN:VTIMEZONE
TZID:Europe/Berlin
X-LIC-LOCATION:Europe/Berlin
BEGIN:DAYLIGHT
DTSTART:20260329T030000
TZOFFSETFROM:+0100
TZOFFSETTO:+0200
TZNAME:CEST
END:DAYLIGHT
END:VTIMEZONE
END:VCALENDAR