BEGIN:VCALENDAR
VERSION:2.0
PRODID:-//wp-events-plugin.com//6.6.4.4//EN
TZID:Europe/Berlin
X-WR-TIMEZONE:Europe/Berlin
BEGIN:VEVENT
UID:23@anett-levander.de
DTSTART;TZID=Europe/Berlin:20260327T190000
DTEND;TZID=Europe/Berlin:20260327T210000
DTSTAMP:20260117T114814Z
URL:https://anett-levander.de/konzerte/catfish-row-13/
SUMMARY:catfish row
DESCRIPTION:
LOCATION:Alte Dorfschule Rudow\, Alt-Rudow 60\, Berlin\, 12355\, Deutschlan
 d
X-APPLE-STRUCTURED-LOCATION;VALUE=URI;X-ADDRESS=Alt-Rudow 60\, Berlin\, 123
 55\, Deutschland;X-APPLE-RADIUS=100;X-TITLE=Alte Dorfschule Rudow:geo:0,0
END:VEVENT
BEGIN:VTIMEZONE
TZID:Europe/Berlin
X-LIC-LOCATION:Europe/Berlin
BEGIN:STANDARD
DTSTART:20251026T020000
TZOFFSETFROM:+0200
TZOFFSETTO:+0100
TZNAME:CET
END:STANDARD
END:VTIMEZONE
END:VCALENDAR