BEGIN:VCALENDAR
VERSION:2.0
PRODID:-//wp-events-plugin.com//6.6.4.4//EN
TZID:Europe/Berlin
X-WR-TIMEZONE:Europe/Berlin
BEGIN:VEVENT
UID:25@anett-levander.de
DTSTART;TZID=Europe/Berlin:20260424T203000
DTEND;TZID=Europe/Berlin:20260424T223000
DTSTAMP:20260117T115705Z
URL:https://anett-levander.de/konzerte/catfish-row-15/
SUMMARY:catfish row
DESCRIPTION:
LOCATION:Jazz in der Burg\, Burgstr. 1\, Burgthann\, 90559\, Deutschland
X-APPLE-STRUCTURED-LOCATION;VALUE=URI;X-ADDRESS=Burgstr. 1\, Burgthann\, 90
 559\, Deutschland;X-APPLE-RADIUS=100;X-TITLE=Jazz in der Burg:geo:0,0
END:VEVENT
BEGIN:VTIMEZONE
TZID:Europe/Berlin
X-LIC-LOCATION:Europe/Berlin
BEGIN:DAYLIGHT
DTSTART:20260329T030000
TZOFFSETFROM:+0100
TZOFFSETTO:+0200
TZNAME:CEST
END:DAYLIGHT
END:VTIMEZONE
END:VCALENDAR