BEGIN:VCALENDAR
VERSION:2.0
PRODID:-//wp-events-plugin.com//6.6.4.4//EN
TZID:Europe/Berlin
X-WR-TIMEZONE:Europe/Berlin
BEGIN:VEVENT
UID:30@anett-levander.de
DTSTART;TZID=Europe/Berlin:20260830T100000
DTEND;TZID=Europe/Berlin:20260830T110000
DTSTAMP:20260117T121105Z
URL:https://anett-levander.de/konzerte/catfish-row-musik-im-gottesdienst/
SUMMARY:catfish row - Musik im Gottesdienst
DESCRIPTION:
LOCATION:Dom zu Greifswald\, Domstr. 54\, Greifswald\, 17489\, Deutschland
X-APPLE-STRUCTURED-LOCATION;VALUE=URI;X-ADDRESS=Domstr. 54\, Greifswald\, 1
 7489\, Deutschland;X-APPLE-RADIUS=100;X-TITLE=Dom zu Greifswald:geo:0,0
END:VEVENT
BEGIN:VTIMEZONE
TZID:Europe/Berlin
X-LIC-LOCATION:Europe/Berlin
BEGIN:DAYLIGHT
DTSTART:20260329T030000
TZOFFSETFROM:+0100
TZOFFSETTO:+0200
TZNAME:CEST
END:DAYLIGHT
END:VTIMEZONE
END:VCALENDAR