BEGIN:VCALENDAR
VERSION:2.0
PRODID:-//wp-events-plugin.com//6.6.4.4//EN
TZID:Europe/Berlin
X-WR-TIMEZONE:Europe/Berlin
BEGIN:VEVENT
UID:31@anett-levander.de
DTSTART;TZID=Europe/Berlin:20260927T170000
DTEND;TZID=Europe/Berlin:20260927T190000
DTSTAMP:20260217T090306Z
URL:https://anett-levander.de/konzerte/die-tontauben-frauengefluester-2/
SUMMARY:Die Tontauben "Frauengeflüster"
DESCRIPTION:
LOCATION:Showfenster Theater\, Lettestr. 94\,  Berlin\, 13409\, Deutschland
X-APPLE-STRUCTURED-LOCATION;VALUE=URI;X-ADDRESS=Lettestr. 94\,  Berlin\, 13
 409\, Deutschland;X-APPLE-RADIUS=100;X-TITLE=Showfenster Theater:geo:0,0
END:VEVENT
BEGIN:VTIMEZONE
TZID:Europe/Berlin
X-LIC-LOCATION:Europe/Berlin
BEGIN:DAYLIGHT
DTSTART:20260329T030000
TZOFFSETFROM:+0100
TZOFFSETTO:+0200
TZNAME:CEST
END:DAYLIGHT
END:VTIMEZONE
END:VCALENDAR