BEGIN:VCALENDAR
VERSION:2.0
PRODID:-//wp-events-plugin.com//6.6.4.4//EN
TZID:Europe/Berlin
X-WR-TIMEZONE:Europe/Berlin
BEGIN:VEVENT
UID:19@anett-levander.de
DTSTART;TZID=Europe/Berlin:20260124T163000
DTEND;TZID=Europe/Berlin:20260124T173000
DTSTAMP:20260117T113102Z
URL:https://anett-levander.de/konzerte/die-tontauben-frauengefluester-konz
 ert-zur-tea-time/
SUMMARY:Die Tontauben "Frauengeflüster" Konzert zur Tea Time
DESCRIPTION: Anmeldung unter kultur@tertianum.de oder 030/219920
LOCATION:Tertianum\, Passauer Str. 5-7\, Berlin\, 10789\, Deutschland
X-APPLE-STRUCTURED-LOCATION;VALUE=URI;X-ADDRESS=Passauer Str. 5-7\, Berlin\
 , 10789\, Deutschland;X-APPLE-RADIUS=100;X-TITLE=Tertianum:geo:0,0
END:VEVENT
BEGIN:VTIMEZONE
TZID:Europe/Berlin
X-LIC-LOCATION:Europe/Berlin
BEGIN:STANDARD
DTSTART:20251026T020000
TZOFFSETFROM:+0200
TZOFFSETTO:+0100
TZNAME:CET
END:STANDARD
END:VTIMEZONE
END:VCALENDAR