BEGIN:VCALENDAR
VERSION:2.0
PRODID:-//wp-events-plugin.com//6.6.4.4//EN
TZID:Europe/Berlin
X-WR-TIMEZONE:Europe/Berlin
BEGIN:VEVENT
UID:32@anett-levander.de
DTSTART;TZID=Europe/Berlin:20261205T193000
DTEND;TZID=Europe/Berlin:20261205T213000
DTSTAMP:20260217T090438Z
URL:https://anett-levander.de/konzerte/die-tontauben-was-winter/
SUMMARY:Die Tontauben "Was? Winter?"
DESCRIPTION:
LOCATION:Showfenster Theater\, Lettestr. 94\,  Berlin\, 13409\, Deutschland
X-APPLE-STRUCTURED-LOCATION;VALUE=URI;X-ADDRESS=Lettestr. 94\,  Berlin\, 13
 409\, Deutschland;X-APPLE-RADIUS=100;X-TITLE=Showfenster Theater:geo:0,0
END:VEVENT
BEGIN:VTIMEZONE
TZID:Europe/Berlin
X-LIC-LOCATION:Europe/Berlin
BEGIN:STANDARD
DTSTART:20261025T020000
TZOFFSETFROM:+0200
TZOFFSETTO:+0100
TZNAME:CET
END:STANDARD
END:VTIMEZONE
END:VCALENDAR