BEGIN:VCALENDAR
VERSION:2.0
PRODID:-//wp-events-plugin.com//6.6.4.4//EN
TZID:Europe/Berlin
X-WR-TIMEZONE:Europe/Berlin
BEGIN:VEVENT
UID:9@anett-levander.de
DTSTART;TZID=Europe/Berlin:20250713T170000
DTEND;TZID=Europe/Berlin:20250713T183000
DTSTAMP:20250630T154722Z
URL:https://anett-levander.de/konzerte/pierrot-musique-fine/
SUMMARY:pierrot - musique fine
DESCRIPTION:
LOCATION:Rosengarten im Bürgerpark Pankow\, Wilhelm-Kuhr-Str. 9\, Berlin\,
  13156\, Deutschland
X-APPLE-STRUCTURED-LOCATION;VALUE=URI;X-ADDRESS=Wilhelm-Kuhr-Str. 9\, Berli
 n\, 13156\, Deutschland;X-APPLE-RADIUS=100;X-TITLE=Rosengarten im Bürgerp
 ark Pankow:geo:0,0
END:VEVENT
BEGIN:VTIMEZONE
TZID:Europe/Berlin
X-LIC-LOCATION:Europe/Berlin
BEGIN:DAYLIGHT
DTSTART:20250330T030000
TZOFFSETFROM:+0100
TZOFFSETTO:+0200
TZNAME:CEST
END:DAYLIGHT
END:VTIMEZONE
END:VCALENDAR